BEGIN:VCALENDAR

VERSION:2.0

PRODID:-//hacksw/handcal//NONSGML v1.0//EN

BEGIN:VEVENT

UID:59ee9914af70416f62e2ff76c1fa996b

DTSTAMP:20260424T145532Z

DTSTART:20260523T113000

DTEND:20260523T120000

SUMMARY:L40277605 - FAIRFIELD EAST, 44 Veron Street

END:VEVENT

END:VCALENDAR