BEGIN:VCALENDAR

VERSION:2.0

PRODID:-//hacksw/handcal//NONSGML v1.0//EN

BEGIN:VEVENT

UID:f197999aab379081cf4ded2771de3201

DTSTAMP:20260424T144913Z

DTSTART:20260521T170000

DTEND:20260521T173000

SUMMARY:L40277605 - FAIRFIELD EAST, 44 Veron Street

END:VEVENT

END:VCALENDAR