BEGIN:VCALENDAR

VERSION:2.0

PRODID:-//hacksw/handcal//NONSGML v1.0//EN

BEGIN:VEVENT

UID:19d1585fdd5c316743d2400a8afa0f7c

DTSTAMP:20260424T145539Z

DTSTART:20260516T113000

DTEND:20260516T120000

SUMMARY:L40277605 - FAIRFIELD EAST, 44 Veron Street

END:VEVENT

END:VCALENDAR