BEGIN:VCALENDAR

VERSION:2.0

PRODID:-//hacksw/handcal//NONSGML v1.0//EN

BEGIN:VEVENT

UID:256622c18c5a8f508b530cef6b5ffcb1

DTSTAMP:20260424T145710Z

DTSTART:20260514T170000

DTEND:20260514T173000

SUMMARY:L40277605 - FAIRFIELD EAST, 44 Veron Street

END:VEVENT

END:VCALENDAR