BEGIN:VCALENDAR

VERSION:2.0

PRODID:-//hacksw/handcal//NONSGML v1.0//EN

BEGIN:VEVENT

UID:cb3de8745322e70996f21fb8bd075f6f

DTSTAMP:20260424T145158Z

DTSTART:20260509T113000

DTEND:20260509T120000

SUMMARY:L40277605 - FAIRFIELD EAST, 44 Veron Street

END:VEVENT

END:VCALENDAR