BEGIN:VCALENDAR

VERSION:2.0

PRODID:-//hacksw/handcal//NONSGML v1.0//EN

BEGIN:VEVENT

UID:1aa1edfc4abdb54f71db52c8dd681770

DTSTAMP:20260424T145227Z

DTSTART:20260502T113000

DTEND:20260502T120000

SUMMARY:L40277605 - FAIRFIELD EAST, 44 Veron Street

END:VEVENT

END:VCALENDAR